Package: dreamlet Version: 1.4.1 Command: rm -rf dreamlet.buildbin-libdir && mkdir dreamlet.buildbin-libdir && /Users/biocbuild/BBS/utils/build-universal.sh dreamlet_1.4.1.tar.gz /Library/Frameworks/R.framework/Resources/bin/R dreamlet.buildbin-libdir StartedAt: 2025-02-01 14:44:22 -0500 (Sat, 01 Feb 2025) EndedAt: 2025-02-01 14:45:32 -0500 (Sat, 01 Feb 2025) EllapsedTime: 69.8 seconds RetCode: 0 Status: OK PackageFile: dreamlet_1.4.1.tgz PackageFileSize: 4.943 MiB