Package: drawProteins Version: 1.26.0 Command: rm -rf drawProteins.buildbin-libdir && mkdir drawProteins.buildbin-libdir && F:\biocbuild\bbs-3.20-bioc\R\bin\R.exe CMD INSTALL --build --library=drawProteins.buildbin-libdir drawProteins_1.26.0.tar.gz StartedAt: 2025-02-04 08:24:24 -0500 (Tue, 04 Feb 2025) EndedAt: 2025-02-04 08:24:57 -0500 (Tue, 04 Feb 2025) EllapsedTime: 32.3 seconds RetCode: 0 Status: OK PackageFile: drawProteins_1.26.0.zip PackageFileSize: 857.4 KiB