Package: drawProteins Version: 1.26.0 Command: /home/biocbuild/R/R/bin/R CMD build --keep-empty-dirs --no-resave-data drawProteins StartedAt: 2024-11-20 00:24:40 -0000 (Wed, 20 Nov 2024) EndedAt: 2024-11-20 00:25:24 -0000 (Wed, 20 Nov 2024) EllapsedTime: 44.1 seconds RetCode: 0 Status: OK PackageFile: drawProteins_1.26.0.tar.gz PackageFileSize: 1.012 MiB