Package: drawProteins Version: 1.26.0 Command: /Library/Frameworks/R.framework/Resources/bin/R CMD check --install=check:drawProteins.install-out.txt --library=/Library/Frameworks/R.framework/Resources/library --no-vignettes --timings drawProteins_1.26.0.tar.gz StartedAt: 2025-01-28 17:56:02 -0500 (Tue, 28 Jan 2025) EndedAt: 2025-01-28 17:56:54 -0500 (Tue, 28 Jan 2025) EllapsedTime: 52.2 seconds RetCode: 1 Status: ERROR CheckDir: drawProteins.Rcheck Warnings: NA