Package: doubletrouble Version: 1.6.1 Command: /home/biocbuild/R/R/bin/R CMD check --install=check:doubletrouble.install-out.txt --library=/home/biocbuild/R/R/site-library --no-vignettes --timings doubletrouble_1.6.1.tar.gz StartedAt: 2025-04-01 06:02:14 -0000 (Tue, 01 Apr 2025) EndedAt: 2025-04-01 06:08:30 -0000 (Tue, 01 Apr 2025) EllapsedTime: 375.5 seconds RetCode: 0 Status: OK CheckDir: doubletrouble.Rcheck Warnings: 0