Package: doubletrouble Version: 1.6.0 Command: /Library/Frameworks/R.framework/Resources/bin/R CMD build --keep-empty-dirs --no-resave-data doubletrouble StartedAt: 2025-01-27 18:41:21 -0500 (Mon, 27 Jan 2025) EndedAt: 2025-01-27 18:44:25 -0500 (Mon, 27 Jan 2025) EllapsedTime: 183.9 seconds RetCode: 0 Status: OK PackageFile: doubletrouble_1.6.0.tar.gz PackageFileSize: 4.828 MiB