Package: doubletrouble Version: 1.6.1 Command: rm -rf doubletrouble.buildbin-libdir && mkdir doubletrouble.buildbin-libdir && /Users/biocbuild/BBS/utils/build-universal.sh doubletrouble_1.6.1.tar.gz /Library/Frameworks/R.framework/Resources/bin/R doubletrouble.buildbin-libdir StartedAt: 2025-04-02 14:09:50 -0400 (Wed, 02 Apr 2025) EndedAt: 2025-04-02 14:10:39 -0400 (Wed, 02 Apr 2025) EllapsedTime: 48.9 seconds RetCode: 0 Status: OK PackageFile: doubletrouble_1.6.1.tgz PackageFileSize: 4.893 MiB