Package: doseR Version: 1.22.0 Command: /home/biocbuild/R/R/bin/R CMD build --keep-empty-dirs --no-resave-data doseR StartedAt: 2025-02-03 23:17:28 -0000 (Mon, 03 Feb 2025) EndedAt: 2025-02-03 23:18:10 -0000 (Mon, 03 Feb 2025) EllapsedTime: 42.0 seconds RetCode: 0 Status: OK PackageFile: doseR_1.22.0.tar.gz PackageFileSize: 1.053 MiB