Package: doseR Version: 1.22.0 Command: F:\biocbuild\bbs-3.20-bioc\R\bin\R.exe CMD INSTALL doseR StartedAt: 2025-03-31 16:24:00 -0400 (Mon, 31 Mar 2025) EndedAt: 2025-03-31 16:24:29 -0400 (Mon, 31 Mar 2025) EllapsedTime: 28.7 seconds RetCode: 0 Status: OK