Package: doseR Version: 1.22.0 Command: chmod a+r doseR -R && F:\biocbuild\bbs-3.20-bioc\R\bin\R.exe CMD build --keep-empty-dirs --no-resave-data doseR StartedAt: 2025-03-31 18:35:16 -0400 (Mon, 31 Mar 2025) EndedAt: 2025-03-31 18:36:00 -0400 (Mon, 31 Mar 2025) EllapsedTime: 43.9 seconds RetCode: 0 Status: OK PackageFile: doseR_1.22.0.tar.gz PackageFileSize: 948.3 KiB