Package: doseR Version: 1.22.0 Command: /Library/Frameworks/R.framework/Resources/bin/R CMD check --install=check:doseR.install-out.txt --library=/Library/Frameworks/R.framework/Resources/library --no-vignettes --timings doseR_1.22.0.tar.gz StartedAt: 2025-01-28 17:55:24 -0500 (Tue, 28 Jan 2025) EndedAt: 2025-01-28 17:58:25 -0500 (Tue, 28 Jan 2025) EllapsedTime: 180.6 seconds RetCode: 0 Status: OK CheckDir: doseR.Rcheck Warnings: 0