Package: doppelgangR Version: 1.34.0 Command: /home/biocbuild/R/R/bin/R CMD build --keep-empty-dirs --no-resave-data doppelgangR StartedAt: 2025-02-03 23:16:47 -0000 (Mon, 03 Feb 2025) EndedAt: 2025-02-03 23:19:10 -0000 (Mon, 03 Feb 2025) EllapsedTime: 143.0 seconds RetCode: 0 Status: OK PackageFile: doppelgangR_1.34.0.tar.gz PackageFileSize: 378.3 KiB