Package: doppelgangR Version: 1.34.0 Command: chmod a+r doppelgangR -R && F:\biocbuild\bbs-3.20-bioc\R\bin\R.exe CMD build --keep-empty-dirs --no-resave-data doppelgangR StartedAt: 2025-03-31 18:34:42 -0400 (Mon, 31 Mar 2025) EndedAt: 2025-03-31 18:36:53 -0400 (Mon, 31 Mar 2025) EllapsedTime: 131.6 seconds RetCode: 0 Status: OK PackageFile: doppelgangR_1.34.0.tar.gz PackageFileSize: 329.1 KiB