Package: doppelgangR Version: 1.34.0 Command: rm -rf doppelgangR.buildbin-libdir && mkdir doppelgangR.buildbin-libdir && F:\biocbuild\bbs-3.20-bioc\R\bin\R.exe CMD INSTALL --build --library=doppelgangR.buildbin-libdir doppelgangR_1.34.0.tar.gz StartedAt: 2025-04-01 08:06:38 -0400 (Tue, 01 Apr 2025) EndedAt: 2025-04-01 08:07:36 -0400 (Tue, 01 Apr 2025) EllapsedTime: 58.1 seconds RetCode: 0 Status: OK PackageFile: doppelgangR_1.34.0.zip PackageFileSize: 809.9 KiB