Package: doppelgangR Version: 1.34.0 Command: /Library/Frameworks/R.framework/Resources/bin/R CMD INSTALL doppelgangR StartedAt: 2025-03-31 16:10:42 -0400 (Mon, 31 Mar 2025) EndedAt: 2025-03-31 16:11:52 -0400 (Mon, 31 Mar 2025) EllapsedTime: 69.8 seconds RetCode: 0 Status: OK