Package: doppelgangR Version: 1.34.0 Command: rm -rf doppelgangR.buildbin-libdir && mkdir doppelgangR.buildbin-libdir && /Users/biocbuild/BBS/utils/build-universal.sh doppelgangR_1.34.0.tar.gz /Library/Frameworks/R.framework/Resources/bin/R doppelgangR.buildbin-libdir StartedAt: 2025-01-28 13:02:01 -0500 (Tue, 28 Jan 2025) EndedAt: 2025-01-28 13:03:54 -0500 (Tue, 28 Jan 2025) EllapsedTime: 112.4 seconds RetCode: 0 Status: OK PackageFile: doppelgangR_1.34.0.tgz PackageFileSize: 933.7 KiB