Package: doppelgangR Version: 1.34.0 Command: /Library/Frameworks/R.framework/Resources/bin/R CMD INSTALL doppelgangR StartedAt: 2025-01-27 17:18:40 -0500 (Mon, 27 Jan 2025) EndedAt: 2025-01-27 17:19:18 -0500 (Mon, 27 Jan 2025) EllapsedTime: 37.4 seconds RetCode: 0 Status: OK