Package: dominoSignal Version: 1.0.0 Command: rm -rf dominoSignal.buildbin-libdir && mkdir dominoSignal.buildbin-libdir && F:\biocbuild\bbs-3.20-bioc\R\bin\R.exe CMD INSTALL --build --library=dominoSignal.buildbin-libdir dominoSignal_1.0.0.tar.gz StartedAt: 2025-04-01 08:06:36 -0400 (Tue, 01 Apr 2025) EndedAt: 2025-04-01 08:07:32 -0400 (Tue, 01 Apr 2025) EllapsedTime: 56.1 seconds RetCode: 0 Status: OK PackageFile: dominoSignal_1.0.0.zip PackageFileSize: 1.012 MiB