Package: dominoSignal Version: 1.0.0 Command: /Library/Frameworks/R.framework/Resources/bin/R CMD build --keep-empty-dirs --no-resave-data dominoSignal StartedAt: 2025-03-31 22:43:48 -0400 (Mon, 31 Mar 2025) EndedAt: 2025-03-31 22:47:38 -0400 (Mon, 31 Mar 2025) EllapsedTime: 230.6 seconds RetCode: 0 Status: OK PackageFile: dominoSignal_1.0.0.tar.gz PackageFileSize: 1.061 MiB