Package: dmrseq Version: 1.26.0 Command: /home/biocbuild/R/R/bin/R CMD build --keep-empty-dirs --no-resave-data dmrseq StartedAt: 2025-01-27 23:58:21 -0000 (Mon, 27 Jan 2025) EndedAt: 2025-01-28 00:01:40 -0000 (Tue, 28 Jan 2025) EllapsedTime: 199.1 seconds RetCode: 0 Status: OK PackageFile: dmrseq_1.26.0.tar.gz PackageFileSize: 2.686 MiB