Package: dmrseq Version: 1.26.0 Command: /home/biocbuild/bbs-3.20-bioc/R/bin/R CMD build --keep-empty-dirs --no-resave-data --md5 dmrseq StartedAt: 2025-03-31 17:04:17 -0400 (Mon, 31 Mar 2025) EndedAt: 2025-03-31 17:06:58 -0400 (Mon, 31 Mar 2025) EllapsedTime: 161.2 seconds RetCode: 0 Status: OK PackageFile: dmrseq_1.26.0.tar.gz PackageFileSize: 2.821 MiB