Package: dks Version: 1.52.0 Command: /home/biocbuild/R/R/bin/R CMD INSTALL dks StartedAt: 2025-01-30 20:07:34 -0000 (Thu, 30 Jan 2025) EndedAt: 2025-01-30 20:08:19 -0000 (Thu, 30 Jan 2025) EllapsedTime: 45.4 seconds RetCode: 0 Status: OK