Package: dks Version: 1.52.0 Command: /Library/Frameworks/R.framework/Resources/bin/R CMD build --keep-empty-dirs --no-resave-data dks StartedAt: 2025-01-30 18:43:53 -0500 (Thu, 30 Jan 2025) EndedAt: 2025-01-30 18:44:37 -0500 (Thu, 30 Jan 2025) EllapsedTime: 43.1 seconds RetCode: 0 Status: OK PackageFile: dks_1.52.0.tar.gz PackageFileSize: 601 KiB