Package: dks Version: 1.52.0 Command: /Library/Frameworks/R.framework/Resources/bin/R CMD build --keep-empty-dirs --no-resave-data dks StartedAt: 2024-11-19 16:39:43 -0500 (Tue, 19 Nov 2024) EndedAt: 2024-11-19 16:40:02 -0500 (Tue, 19 Nov 2024) EllapsedTime: 18.2 seconds RetCode: 0 Status: OK PackageFile: dks_1.52.0.tar.gz PackageFileSize: 600.7 KiB