Package: divergence Version: 1.22.0 Command: /Library/Frameworks/R.framework/Resources/bin/R CMD INSTALL divergence StartedAt: 2025-01-27 15:24:06 -0500 (Mon, 27 Jan 2025) EndedAt: 2025-01-27 15:24:31 -0500 (Mon, 27 Jan 2025) EllapsedTime: 24.7 seconds RetCode: 0 Status: OK