Package: dittoSeq Version: 1.18.0 Command: rm -rf dittoSeq.buildbin-libdir && mkdir dittoSeq.buildbin-libdir && /Users/biocbuild/BBS/utils/build-universal.sh dittoSeq_1.18.0.tar.gz /Library/Frameworks/R.framework/Resources/bin/R dittoSeq.buildbin-libdir StartedAt: 2024-11-20 04:23:59 -0500 (Wed, 20 Nov 2024) EndedAt: 2024-11-20 04:24:41 -0500 (Wed, 20 Nov 2024) EllapsedTime: 41.7 seconds RetCode: 0 Status: OK PackageFile: dittoSeq_1.18.0.tgz PackageFileSize: 2.815 MiB