Package: distinct Version: 1.18.0 Command: /home/biocbuild/bbs-3.20-bioc/R/bin/R CMD build --keep-empty-dirs --no-resave-data --md5 distinct StartedAt: 2025-02-10 17:05:56 -0500 (Mon, 10 Feb 2025) EndedAt: 2025-02-10 17:09:47 -0500 (Mon, 10 Feb 2025) EllapsedTime: 231.2 seconds RetCode: 0 Status: OK PackageFile: distinct_1.18.0.tar.gz PackageFileSize: 1.835 MiB