Package: dir.expiry Version: 1.14.0 Command: /home/biocbuild/R/R/bin/R CMD INSTALL dir.expiry StartedAt: 2025-01-27 21:02:05 -0000 (Mon, 27 Jan 2025) EndedAt: 2025-01-27 21:02:20 -0000 (Mon, 27 Jan 2025) EllapsedTime: 14.5 seconds RetCode: 0 Status: OK