Package: dinoR Version: 1.2.0 Command: /home/biocbuild/R/R/bin/R CMD INSTALL dinoR StartedAt: 2025-01-30 20:37:12 -0000 (Thu, 30 Jan 2025) EndedAt: 2025-01-30 20:37:41 -0000 (Thu, 30 Jan 2025) EllapsedTime: 29.5 seconds RetCode: 0 Status: OK