Package: dinoR Version: 1.2.0 Command: /home/biocbuild/R/R/bin/R CMD build --keep-empty-dirs --no-resave-data dinoR StartedAt: 2025-02-03 23:13:35 -0000 (Mon, 03 Feb 2025) EndedAt: 2025-02-03 23:15:00 -0000 (Mon, 03 Feb 2025) EllapsedTime: 85.0 seconds RetCode: 0 Status: OK PackageFile: dinoR_1.2.0.tar.gz PackageFileSize: 2.9 MiB