Package: diggit Version: 1.38.0 Command: chmod a+r diggit -R && F:\biocbuild\bbs-3.20-bioc\R\bin\R.exe CMD build --keep-empty-dirs --no-resave-data diggit StartedAt: 2025-01-27 18:29:58 -0500 (Mon, 27 Jan 2025) EndedAt: 2025-01-27 18:39:32 -0500 (Mon, 27 Jan 2025) EllapsedTime: 573.8 seconds RetCode: 0 Status: OK PackageFile: diggit_1.38.0.tar.gz PackageFileSize: 205.2 KiB