Package: diggit Version: 1.38.0 Command: /Library/Frameworks/R.framework/Resources/bin/R CMD INSTALL diggit StartedAt: 2025-01-27 17:16:08 -0500 (Mon, 27 Jan 2025) EndedAt: 2025-01-27 17:16:24 -0500 (Mon, 27 Jan 2025) EllapsedTime: 15.4 seconds RetCode: 0 Status: OK