Package: diggit Version: 1.38.0 Command: /Library/Frameworks/R.framework/Resources/bin/R CMD build --keep-empty-dirs --no-resave-data diggit StartedAt: 2025-03-31 22:35:28 -0400 (Mon, 31 Mar 2025) EndedAt: 2025-03-31 22:38:16 -0400 (Mon, 31 Mar 2025) EllapsedTime: 167.9 seconds RetCode: 0 Status: OK PackageFile: diggit_1.38.0.tar.gz PackageFileSize: 348.8 KiB