Package: diggit Version: 1.38.0 Command: rm -rf diggit.buildbin-libdir && mkdir diggit.buildbin-libdir && /Users/biocbuild/BBS/utils/build-universal.sh diggit_1.38.0.tar.gz /Library/Frameworks/R.framework/Resources/bin/R diggit.buildbin-libdir StartedAt: 2025-04-02 14:06:53 -0400 (Wed, 02 Apr 2025) EndedAt: 2025-04-02 14:07:09 -0400 (Wed, 02 Apr 2025) EllapsedTime: 15.7 seconds RetCode: 0 Status: OK PackageFile: diggit_1.38.0.tgz PackageFileSize: 605.4 KiB