Package: diffuStats Version: 1.26.0 Command: /home/biocbuild/R/R/bin/R CMD build --keep-empty-dirs --no-resave-data diffuStats StartedAt: 2025-02-10 23:00:55 -0000 (Mon, 10 Feb 2025) EndedAt: 2025-02-10 23:01:39 -0000 (Mon, 10 Feb 2025) EllapsedTime: 44.0 seconds RetCode: 1 Status: ERROR PackageFile: None PackageFileSize: NA