Package: diffcyt Version: 1.26.1 Command: /Library/Frameworks/R.framework/Resources/bin/R CMD INSTALL diffcyt StartedAt: 2025-03-31 16:36:54 -0400 (Mon, 31 Mar 2025) EndedAt: 2025-03-31 16:37:56 -0400 (Mon, 31 Mar 2025) EllapsedTime: 62.7 seconds RetCode: 0 Status: OK