Package: diffcyt Version: 1.26.0 Command: rm -rf diffcyt.buildbin-libdir && mkdir diffcyt.buildbin-libdir && /Users/biocbuild/BBS/utils/build-universal.sh diffcyt_1.26.0.tar.gz /Library/Frameworks/R.framework/Resources/bin/R diffcyt.buildbin-libdir StartedAt: 2025-02-04 12:49:46 -0500 (Tue, 04 Feb 2025) EndedAt: 2025-02-04 12:50:52 -0500 (Tue, 04 Feb 2025) EllapsedTime: 66.2 seconds RetCode: 0 Status: OK PackageFile: diffcyt_1.26.0.tgz PackageFileSize: 860 KiB