Package: diffcyt Version: 1.26.0 Command: /Library/Frameworks/R.framework/Resources/bin/R CMD check --install=check:diffcyt.install-out.txt --library=/Library/Frameworks/R.framework/Resources/library --no-vignettes --timings diffcyt_1.26.0.tar.gz StartedAt: 2025-02-04 18:04:48 -0500 (Tue, 04 Feb 2025) EndedAt: 2025-02-04 18:09:30 -0500 (Tue, 04 Feb 2025) EllapsedTime: 282.2 seconds RetCode: 0 Status: OK CheckDir: diffcyt.Rcheck Warnings: 0