Package: diffcoexp Version: 1.26.0 Command: /home/biocbuild/R/R/bin/R CMD INSTALL diffcoexp StartedAt: 2025-01-30 20:54:19 -0000 (Thu, 30 Jan 2025) EndedAt: 2025-01-30 20:54:54 -0000 (Thu, 30 Jan 2025) EllapsedTime: 35.5 seconds RetCode: 0 Status: OK