Package: diffcoexp Version: 1.26.0 Command: rm -rf diffcoexp.buildbin-libdir && mkdir diffcoexp.buildbin-libdir && F:\biocbuild\bbs-3.20-bioc\R\bin\R.exe CMD INSTALL --build --library=diffcoexp.buildbin-libdir diffcoexp_1.26.0.tar.gz StartedAt: 2025-01-28 08:02:12 -0500 (Tue, 28 Jan 2025) EndedAt: 2025-01-28 08:02:47 -0500 (Tue, 28 Jan 2025) EllapsedTime: 35.1 seconds RetCode: 0 Status: OK PackageFile: diffcoexp_1.26.0.zip PackageFileSize: 158.4 KiB