Package: diffHic Version: 1.38.0 Command: /home/biocbuild/bbs-3.20-bioc/R/bin/R CMD check --install=check:diffHic.install-out.txt --library=/home/biocbuild/bbs-3.20-bioc/R/site-library --timings diffHic_1.38.0.tar.gz StartedAt: 2025-01-27 22:35:34 -0500 (Mon, 27 Jan 2025) EndedAt: 2025-01-27 22:41:17 -0500 (Mon, 27 Jan 2025) EllapsedTime: 343.3 seconds RetCode: 0 Status: OK CheckDir: diffHic.Rcheck Warnings: 0