Package: diffHic Version: 1.38.0 Command: /home/biocbuild/R/R/bin/R CMD build --keep-empty-dirs --no-resave-data diffHic StartedAt: 2024-11-20 00:19:00 -0000 (Wed, 20 Nov 2024) EndedAt: 2024-11-20 00:21:31 -0000 (Wed, 20 Nov 2024) EllapsedTime: 151.2 seconds RetCode: 0 Status: OK PackageFile: diffHic_1.38.0.tar.gz PackageFileSize: 1.512 MiB