Package: diffHic Version: 1.38.0 Command: rm -rf diffHic.buildbin-libdir && mkdir diffHic.buildbin-libdir && /Users/biocbuild/BBS/utils/build-universal.sh diffHic_1.38.0.tar.gz /Library/Frameworks/R.framework/Resources/bin/R diffHic.buildbin-libdir StartedAt: 2024-11-09 16:46:31 -0500 (Sat, 09 Nov 2024) EndedAt: 2024-11-09 16:47:03 -0500 (Sat, 09 Nov 2024) EllapsedTime: 31.5 seconds RetCode: 0 Status: OK PackageFile: diffHic_1.38.0.tgz PackageFileSize: 2.517 MiB