Package: diffGeneAnalysis Version: 1.88.0 Command: /home/biocbuild/bbs-3.20-bioc/R/bin/R CMD INSTALL diffGeneAnalysis StartedAt: 2025-03-31 15:10:54 -0400 (Mon, 31 Mar 2025) EndedAt: 2025-03-31 15:10:59 -0400 (Mon, 31 Mar 2025) EllapsedTime: 4.6 seconds RetCode: 0 Status: OK