Package: diffGeneAnalysis Version: 1.88.0 Command: /Library/Frameworks/R.framework/Resources/bin/R CMD build --keep-empty-dirs --no-resave-data diffGeneAnalysis StartedAt: 2025-03-31 18:18:31 -0400 (Mon, 31 Mar 2025) EndedAt: 2025-03-31 18:18:46 -0400 (Mon, 31 Mar 2025) EllapsedTime: 15.0 seconds RetCode: 0 Status: OK PackageFile: diffGeneAnalysis_1.88.0.tar.gz PackageFileSize: 213.2 KiB