Package: diffGeneAnalysis Version: 1.88.0 Command: /Library/Frameworks/R.framework/Resources/bin/R CMD check --install=check:diffGeneAnalysis.install-out.txt --library=/Library/Frameworks/R.framework/Resources/library --no-vignettes --timings diffGeneAnalysis_1.88.0.tar.gz StartedAt: 2025-04-01 17:24:12 -0400 (Tue, 01 Apr 2025) EndedAt: 2025-04-01 17:24:36 -0400 (Tue, 01 Apr 2025) EllapsedTime: 23.7 seconds RetCode: 0 Status: OK CheckDir: diffGeneAnalysis.Rcheck Warnings: 0