Package: derfinderHelper Version: 1.40.0 Command: /Library/Frameworks/R.framework/Resources/bin/R CMD INSTALL derfinderHelper StartedAt: 2024-11-19 15:07:06 -0500 (Tue, 19 Nov 2024) EndedAt: 2024-11-19 15:07:32 -0500 (Tue, 19 Nov 2024) EllapsedTime: 25.6 seconds RetCode: 0 Status: OK