Package: derfinder Version: 1.40.0 Command: F:\biocbuild\bbs-3.20-bioc\R\bin\R.exe CMD check --no-multiarch --install=check:derfinder.install-out.txt --library=F:\biocbuild\bbs-3.20-bioc\R\library --no-vignettes --timings derfinder_1.40.0.tar.gz StartedAt: 2025-01-28 00:52:38 -0500 (Tue, 28 Jan 2025) EndedAt: 2025-01-28 01:03:40 -0500 (Tue, 28 Jan 2025) EllapsedTime: 661.3 seconds RetCode: 0 Status: OK CheckDir: derfinder.Rcheck Warnings: 0