Package: derfinder Version: 1.40.0 Command: rm -rf derfinder.buildbin-libdir && mkdir derfinder.buildbin-libdir && F:\biocbuild\bbs-3.20-bioc\R\bin\R.exe CMD INSTALL --build --library=derfinder.buildbin-libdir derfinder_1.40.0.tar.gz StartedAt: 2025-04-01 08:04:15 -0400 (Tue, 01 Apr 2025) EndedAt: 2025-04-01 08:05:19 -0400 (Tue, 01 Apr 2025) EllapsedTime: 63.9 seconds RetCode: 0 Status: OK PackageFile: derfinder_1.40.0.zip PackageFileSize: 1.303 MiB