Package: densvis Version: 1.16.0 Command: /home/biocbuild/R/R/bin/R CMD build --keep-empty-dirs --no-resave-data densvis StartedAt: 2025-02-03 23:07:42 -0000 (Mon, 03 Feb 2025) EndedAt: 2025-02-03 23:09:55 -0000 (Mon, 03 Feb 2025) EllapsedTime: 133.0 seconds RetCode: 0 Status: OK PackageFile: densvis_1.16.0.tar.gz PackageFileSize: 936.7 KiB